BEGIN:VCALENDAR
VERSION:2.0
PRODID:-//Jugendscheune - ECPv6.7.1//NONSGML v1.0//EN
CALSCALE:GREGORIAN
METHOD:PUBLISH
X-WR-CALNAME:Jugendscheune
X-ORIGINAL-URL:https://jugendscheune.com
X-WR-CALDESC:Veranstaltungen für Jugendscheune
REFRESH-INTERVAL;VALUE=DURATION:PT1H
X-Robots-Tag:noindex
X-PUBLISHED-TTL:PT1H
BEGIN:VTIMEZONE
TZID:Europe/Berlin
BEGIN:DAYLIGHT
TZOFFSETFROM:+0100
TZOFFSETTO:+0200
TZNAME:CEST
DTSTART:20250330T010000
END:DAYLIGHT
BEGIN:STANDARD
TZOFFSETFROM:+0200
TZOFFSETTO:+0100
TZNAME:CET
DTSTART:20251026T010000
END:STANDARD
END:VTIMEZONE
BEGIN:VEVENT
DTSTART;TZID=Europe/Berlin:20250928T120000
DTEND;TZID=Europe/Berlin:20250928T173000
DTSTAMP:20260426T034939
CREATED:20250301T101033Z
LAST-MODIFIED:20250620T090650Z
UID:5568-1759060800-1759080600@jugendscheune.com
SUMMARY:Freundestag der Jugendscheune & CVJM Landesverband
DESCRIPTION:Schon jetzt herzliche Einladung zum Freundestag. \n12 Uhr – Mittagessen \nanschl. Gottesdienst OpenAir auf dem Grundstück \nanschl. Kaffeetrinken auf dem Grundstück \n\nZeit für Begegnung und Austausch\nkleines Programm für KLEIN und groß\n\nEnde mit Essen beim Abbau gg 17:30 Uhr \nDetails folgen sicher nach dem Sommer!
URL:https://jugendscheune.com/event/freundestag-der-jugendscheune/
LOCATION:Jugendscheune Melaune\, Melaune 42\, Vierkirchen\, Sachsen\, 02894\, Germany
ATTACH;FMTTYPE=image/jpeg:https://jugendscheune.com/wp-content/uploads/IMG_0959-1-scaled.jpg
ORGANIZER;CN="Ev.Jugendscheune Melaune e.V.":MAILTO:kontakt@jugendscheune.com
END:VEVENT
END:VCALENDAR