BEGIN:VCALENDAR
VERSION:2.0
PRODID:-//Jugendscheune - ECPv6.7.1//NONSGML v1.0//EN
CALSCALE:GREGORIAN
METHOD:PUBLISH
X-WR-CALNAME:Jugendscheune
X-ORIGINAL-URL:https://jugendscheune.com
X-WR-CALDESC:Veranstaltungen für Jugendscheune
REFRESH-INTERVAL;VALUE=DURATION:PT1H
X-Robots-Tag:noindex
X-PUBLISHED-TTL:PT1H
BEGIN:VTIMEZONE
TZID:Europe/Berlin
BEGIN:DAYLIGHT
TZOFFSETFROM:+0100
TZOFFSETTO:+0200
TZNAME:CEST
DTSTART:20250330T010000
END:DAYLIGHT
BEGIN:STANDARD
TZOFFSETFROM:+0200
TZOFFSETTO:+0100
TZNAME:CET
DTSTART:20251026T010000
END:STANDARD
END:VTIMEZONE
BEGIN:VEVENT
DTSTART;TZID=Europe/Berlin:20251023T180000
DTEND;TZID=Europe/Berlin:20251026T140000
DTSTAMP:20260426T030422
CREATED:20250908T140440Z
LAST-MODIFIED:20251008T142900Z
UID:5927-1761242400-1761487200@jugendscheune.com
SUMMARY:MiT Zentral 2025
DESCRIPTION:Du bist eingeladen\, wenn… \n…Du in der Arbeit mit Kindern und Jugendlichen mit arbeitest oder es vorhast.\n…Du als Mitarbeiter vorankommen willst.\n…Du die JuLeiCa machen möchtest.\n…Du Zeit mit Gott verbringen willst. \nSei dabei und erlebe junge Mitarbeiter und Mitarbeiterinnen aus der gesamten Oberlausitz. Wir freuen uns auf Dich und deine Freunde! \nUm weitere Infos zu bekommen und Dich am Ende auch anzumelden\, klicke bitt hier. \nDu brauchst noch ein bisschen Motivation? Hier kannst Du dich inspirieren lassen. \nAchtung:  \nKommst Du aus der Region um Melaune. So melde dich bitte in der Jugendscheune \nwegen einer Mitfahrgelegenheit. \nhttps://jugendscheune.com/wp-content/uploads/MIT-Video.mp4
URL:https://jugendscheune.com/event/mit-zentral-2025/
LOCATION:IBS Laubusch\, Hauptstraße 14\, Laubusch\, 02991
ATTACH;FMTTYPE=image/jpeg:https://jugendscheune.com/wp-content/uploads/Jugend-17-scaled.jpg
END:VEVENT
END:VCALENDAR