BEGIN:VCALENDAR
VERSION:2.0
PRODID:-//Jugendscheune - ECPv6.7.1//NONSGML v1.0//EN
CALSCALE:GREGORIAN
METHOD:PUBLISH
X-WR-CALNAME:Jugendscheune
X-ORIGINAL-URL:https://jugendscheune.com
X-WR-CALDESC:Veranstaltungen für Jugendscheune
REFRESH-INTERVAL;VALUE=DURATION:PT1H
X-Robots-Tag:noindex
X-PUBLISHED-TTL:PT1H
BEGIN:VTIMEZONE
TZID:Europe/Berlin
BEGIN:DAYLIGHT
TZOFFSETFROM:+0100
TZOFFSETTO:+0200
TZNAME:CEST
DTSTART:20260329T010000
END:DAYLIGHT
BEGIN:STANDARD
TZOFFSETFROM:+0200
TZOFFSETTO:+0100
TZNAME:CET
DTSTART:20261025T010000
END:STANDARD
END:VTIMEZONE
BEGIN:VEVENT
DTSTART;TZID=Europe/Berlin:20260424T190000
DTEND;TZID=Europe/Berlin:20260426T150000
DTSTAMP:20260425T141625
CREATED:20260318T125011Z
LAST-MODIFIED:20260318T125011Z
UID:6199-1777057200-1777215600@jugendscheune.com
SUMMARY:SOL Kongress
DESCRIPTION:Hallo in die Runde\, \nalso von uns aus die Info unser blauer Bus wird dahinfahren. Melde dich\, wenn du einen Platz haben möchtest. \nAlle Infos findest Du aber hier. \nAlso herzliche Einladung! \n  \nhttps://www.cvjm-schlesien.de/website/de/sol/bereiche/bildung/sol-congress
URL:https://jugendscheune.com/event/sol-kongress/
ATTACH;FMTTYPE=image/jpeg:https://jugendscheune.com/wp-content/uploads/PXL_20251010_194304436-scaled.jpg
END:VEVENT
BEGIN:VEVENT
DTSTART;TZID=Europe/Berlin:20260613T180000
DTEND;TZID=Europe/Berlin:20260620T180000
DTSTAMP:20260425T141625
CREATED:20260226T130148Z
LAST-MODIFIED:20260226T130232Z
UID:6185-1781373600-1781978400@jugendscheune.com
SUMMARY:Kletterrüstzeit
DESCRIPTION:Was haben wir es gut? Gerade eine Autostunde von Melaune entfernt sind wir mitten im Nationalpark Sächsische Schweiz. Schroffe Felsen mitten im Wald. Gipfel\, soweit das Auge reicht. Mit der nötigen Ausrüstung im Rucksack\,\ndem Kletterführer in der Hand\, suchen wir am Fuß des Felsens nach geeigneten Wegen hinauf. Wie auch diese Wege nicht einfach zu finden sind\, geht es uns im Leben mit der Orientierung und den Zielen auch. Ein\nAustausch mit der Gruppe und Gottes Botschaft sind gute Hilfen. \n〉 Wer: Jugendliche & junge Erwachsene\, wenn du nicht mehr\nzur Schule musst.\n〉 Wo: Landhaus Gohrisch/ Sächsische Schweiz \n〉 Wann: 13. Juni\, 18 Uhr bis 20. Juni\, 18 Uhr\n〉 Geld: voraussichtlich: 170 € bis 1. April\, danach 190 €
URL:https://jugendscheune.com/event/kletterruestzeit-3/
ATTACH;FMTTYPE=image/jpeg:https://jugendscheune.com/wp-content/uploads/20250522_174441-scaled.jpg
END:VEVENT
BEGIN:VEVENT
DTSTART;TZID=Europe/Berlin:20260705T160000
DTEND;TZID=Europe/Berlin:20260711T170000
DTSTAMP:20260425T141625
CREATED:20260222T125045Z
LAST-MODIFIED:20260414T084048Z
UID:6201-1783267200-1783789200@jugendscheune.com
SUMMARY:Kinderrüstzeit 2026
DESCRIPTION:Liebe Kinder\, liebe Eltern\, \n \naktuell stehen wir bei der Planung der Kinderrüstzeit vor wichtigen offenen Fragen. \nIn den vergangenen über 10 Jahren durften wir immer wieder erleben\, wie sich junge Menschen gefunden und bereit erklärt haben\, diese besondere Woche in der ersten Ferienwoche mitzugestalten. Dazu haben wir vier Kleingruppen gebildet\, welchen dann nahezu eigenständig\, jedoch mit einigen Zischentreffen ihren Part von Anspiel\, Bastel- und Spielangebot vorbereitet haben. Dafür sind wir sehr dankbar. \nIn diesem Jahr sieht die Situation jedoch anders aus:  \nErste Kinder sind bereits angemeldet – was uns jedoch noch fehlt\, sind \n\nJugendliche und auch einige Erwachsene\, die bereit sind\, Verantwortung zu übernehmen und diese Woche aktiv mitzugestalten.\n\nDamit die Rüstzeit stattfinden kann\, sind wir bis Ende April auf verbindliche Zusagen angewiesen. \nWenn du dir vorstellen kannst\, dabei mitzuhelfen oder Fragen hast\, melde dich gern bei uns. \nLasst uns gemeinsam dafür sorgen\, dass diese wertvolle Zeit für die Kinder möglich wird. \nHerzliche Grüße aus dem Jugendscheune-BüroJugendwart Tobias Walzok  \nPS: Vielleicht machen die Bilder und der Bericht aus dem letzten Jahr Vorfreude und ebnen den Weg für eine eigene Zusage.  \nDie Anmeldung dazu findet sich hier. \n \nSpielezeit
URL:https://jugendscheune.com/event/kinderruestzeit-2026/
LOCATION:Jugendscheune Melaune\, Melaune 42\, Vierkirchen\, Sachsen\, 02894\, Germany
ATTACH;FMTTYPE=image/jpeg:https://jugendscheune.com/wp-content/uploads/KiRZ-25-1-1-scaled.jpg
ORGANIZER;CN="Ev.Jugendscheune Melaune e.V.":MAILTO:kontakt@jugendscheune.com
END:VEVENT
BEGIN:VEVENT
DTSTART;TZID=Europe/Berlin:20260717T080000
DTEND;TZID=Europe/Berlin:20260802T170000
DTSTAMP:20260425T141625
CREATED:20251110T112354Z
LAST-MODIFIED:20260226T130409Z
UID:6050-1784275200-1785690000@jugendscheune.com
SUMMARY:Rumänien Rüstzeit 2026
DESCRIPTION:Rumänien-Rüstzeit 2025. Copyright: Florian Gaertner/www.flogaertner.com\nStell dir vor:\nDu sitzt im Juli 2026 mit 17 anderen Leuten in zwei Kleinbussen. Nach gut achtzehn Stunden Fahrt steigst du in einem Dorf in Siebenbürgen aus.        Menschen begrüßen dich unglaublich herzlich\, obwohl du sie gar nicht kennst. \nDas hat drei wesentliche Gründe: \n\nSeit 2008 ist es unsere Partnergemeinde.\nSie glauben an denselben Gott wie wir und leben ihre Beziehung zu ihm – deshalb ist es wie ein Familientreffen.\nUnsere Begegnungen finden jedes Jahr statt und fast 140 junge Leute waren dabei. \n\nIn der ersten Woche fahren wir mit einheimischen Jugendlichen in eine Art separates Dorf. Vom äußeren Rahmen her hat das nichts mit dem zu tun\, was du von hier kennst. Die Häuser mit etwa 20 m² sind eher einfache Hütten. Wasser\, Toiletten und Strom suchst du vergeblich. \nDafür findest du dort rund 70 Kinder – viele von ihnen sind schmutzig\, ungepflegt und selten in der Schule. Aber sie sind neugierig\, zu begeistern und voller Vor-/Freude dabei.\nDann kommen wir: Mit dem Team und zwei großen Zelten verbringen wir die Woche bei ihnen. \nWenn wir mit den Kindern spielen\, ist das schön – aber nicht das Wichtigste.\nWenn wir mit ihnen basteln\, singen und ihnen unsere Zeit schenken\, ist das ebenfalls schön – aber auch nicht das Wichtigste. \nGott möchte jedes einzelne Kind erreichen und ihm sagen und zeigen:\n„Du bist mir wichtig. Ich hab dich lieb. Ich habe einen Plan für dein Leben.“ \nDas sind die zentralen Botschaften\, die die Kinder in der Kinderbibelwoche erleben sollen. Dafür lassen wir uns kreative Wege einfallen\, um sie mit biblischen Geschichten und passenden Aktionen zu verbinden. \nDie restliche Tageszeit verbringen wir mit der örtlichen Jugendgruppe – auch dafür planen wir manches gemeinsam. \nIn der zweiten Woche sind wir irgendwo in Rumänien unterwegs – teilweise zu Fuß und wahrscheinlich mit Zelten. \nWenn du nicht nur einfach „Ja“ sagen kannst\, sondern diese Ziele aktiv unterstützen willst\, freuen wir uns über deine Anmeldung! \nAchtung: Wir sind keine „frommen Überflieger“\, die alles wissen und können. Nein. Aber wir wollen glauben\, dass Gott der ist\, der alles bewirkt und verändert – und das will er auch an mit uns. \nDu möchtest eine Ahnung bekommen\, wie die Rüstzeit in etwa aussieht?  \nDann schau dir das Video von 2025 an.\nDie Anmeldung ist ab dem 18. November HIER möglich – dann ist der Link aktiv. \n  \nZu den Daten und Fakten: \nSeminar I: Fr. 27.03.2026\, 18 Uhr bis So. 29.03.2026\, 16 Uhr\nSeminar II: Sa. 27.06.2026\, 9 Uhr bis 18 Uhr \nDiese Tage sind für die Teilnahme an der Rüstzeit verpflichtend. \nRüstzeit: 17.07. bis 02.08.26 \nMit der Rüstzeitgruppe sind wir auch 2026\, wie in der Vergangenheit\, mit einem Stand aktiv bei der Jugendnacht in Rothenburg dabei.    \n  \nLeitung:\nRuby Raußendorf\, Florian Gaertner & Jugendwart Tobias Walzok \nWer: Menschlein ab 15 Jahre \nKosten: \nWir geben nicht einfach die Kosten weiter. Aber Du sollst wissen der eigentliche Teilnehmerbeitrag ohne Zuschüsse liegt bei etwa 800€/ Person. Wer mehr als den u.g. Beitrag geben kann und will\, mache bitte folgendes: Von uns kommen die Rechnungen für Anzahlung und Restbetrag. Den Betrag\, welchen Sie mehr geben wollen\, spendet ihr bitte auf unser Konto mit dem Zweck: Spende Rumänien Rüstzeit 2026.  \nDies ist auch ab sofort möglich.  \nSeminar I: 50 Euro\nSeminar II: 10 Euro\nRüstzeit: 300 Euro\, ab 10.1.26: 340 Euro  \n(Wir verschicken im Januar 2026\, die Teilnahmebestätigung und die Rechnung mit der Anzahlung.)
URL:https://jugendscheune.com/event/rumaenien-ruestzeit-2026-2/
LOCATION:Nagygalambfalva
ATTACH;FMTTYPE=image/jpeg:https://jugendscheune.com/wp-content/uploads/20250715133731_F1_9934-scaled.jpg
ORGANIZER;CN="Ev.Jugendscheune Melaune e.V.":MAILTO:kontakt@jugendscheune.com
END:VEVENT
BEGIN:VEVENT
DTSTART;TZID=Europe/Berlin:20260926T150000
DTEND;TZID=Europe/Berlin:20260926T210000
DTSTAMP:20260425T141625
CREATED:20260226T124619Z
LAST-MODIFIED:20260226T124712Z
UID:6177-1790434800-1790456400@jugendscheune.com
SUMMARY:20 Jahre Jugendscheune - Jubiläumsfest am Freundestag
DESCRIPTION:Schon jetzt herzliche Einladung zu diesem besonderen Freundestag. \nAchtung! Der Freundestag findet dieses Jahr ausnahmsweise am Samstag statt. \nKonkrete Infos erfolgen im April! \n\nWillst diesen Tag mitgestalten\, dann melde Dich bitte bei uns!
URL:https://jugendscheune.com/event/20-jahre-jugendscheune-jubilaeumsfest-am-freundestag/
ATTACH;FMTTYPE=image/jpeg:https://jugendscheune.com/wp-content/uploads/IMG_0185-scaled.jpg
END:VEVENT
BEGIN:VEVENT
DTSTART;TZID=Europe/Berlin:20261001T180000
DTEND;TZID=Europe/Berlin:20261004T160000
DTSTAMP:20260425T141625
CREATED:20260319T124652Z
LAST-MODIFIED:20260319T124652Z
UID:6223-1790877600-1791129600@jugendscheune.com
SUMMARY:MiT-Mitarbeiter im Training
DESCRIPTION:Alle Infos folgen hier!
URL:https://jugendscheune.com/event/mit-mitarbeiter-im-training/
LOCATION:IBS Laubusch\, Hauptstraße 14\, Laubusch\, 02991
ATTACH;FMTTYPE=image/jpeg:https://jugendscheune.com/wp-content/uploads/MiT-2025-3.jpeg
END:VEVENT
END:VCALENDAR